BEGIN:VCALENDAR
VERSION:2.0
PRODID:-//wp-events-plugin.com//7.2.3.1//EN
TZID:Europe/Berlin
X-WR-TIMEZONE:Europe/Berlin
BEGIN:VEVENT
UID:70-210@blogs.hrz.tu-freiberg.de
DTSTART;TZID=Europe/Berlin:20230106T170000
DTEND;TZID=Europe/Berlin:20230106T180000
DTSTAMP:20230306T132057Z
URL:https://blogs.hrz.tu-freiberg.de/ag-umwelt/events/ag-umwelt-sitzung-un
 gerade-kw-2023-01-06/
SUMMARY:Sitzung | Meeting - ungerade KW | odd CW
DESCRIPTION:Ihr könnt euch auch online über unseren BBB dazu schalten.\n\
 nYou can also join on our BBB.
CATEGORIES:Sitzung
LOCATION:MET-0016\, Gustav-Zeuner-Straße 5\, Freiberg\, Sachsen\, 09599\, 
 Deutschland
X-APPLE-STRUCTURED-LOCATION;VALUE=URI;X-ADDRESS=Gustav-Zeuner-Straße 5\, F
 reiberg\, Sachsen\, 09599\, Deutschland;X-APPLE-RADIUS=100;X-TITLE=MET-001
 6:geo:0,0
END:VEVENT
BEGIN:VTIMEZONE
TZID:Europe/Berlin
X-LIC-LOCATION:Europe/Berlin
BEGIN:STANDARD
DTSTART:20221030T020000
TZOFFSETFROM:+0200
TZOFFSETTO:+0100
TZNAME:CET
END:STANDARD
END:VTIMEZONE
END:VCALENDAR