BEGIN:VCALENDAR
VERSION:2.0
PRODID:-//wp-events-plugin.com//7.2.3.1//EN
TZID:Europe/Berlin
X-WR-TIMEZONE:Europe/Berlin
BEGIN:VEVENT
UID:0-233@blogs.hrz.tu-freiberg.de
DTSTART;TZID=Europe/Berlin:20230303T150000
DTEND;TZID=Europe/Berlin:20230303T180000
DTSTAMP:20230103T133128Z
URL:https://blogs.hrz.tu-freiberg.de/ag-umwelt/events/info-und-dialogveran
 staltung-zum-thema-umweltschutz/
SUMMARY:Info- und Dialogveranstaltung zum Thema Umweltschutz
DESCRIPTION:Am 03.03.23 wird auf dem Obermarkt eine Info- und Dialogveranst
 altung zum Thema Umweltschutz stattfinden. Dafür werden Umweltschutzorgan
 isationen und Einzelpersonen eingeladen\, die dort Reden halten und Ständ
 e betreuen werden\, um mit den Büerger/-innen in Kontakt zu kommen. Das Z
 iel ist es\, somit auf das Thema aufmerksam zu machen und zu sensibilisier
 en.
CATEGORIES:Fridays For Future
LOCATION:Obermarkt Freiberg\, Obermarkt\, Freiberg\, Sachsen\, 09599\, Deut
 schland
X-APPLE-STRUCTURED-LOCATION;VALUE=URI;X-ADDRESS=Obermarkt\, Freiberg\, Sach
 sen\, 09599\, Deutschland;X-APPLE-RADIUS=100;X-TITLE=Obermarkt Freiberg:ge
 o:0,0
END:VEVENT
BEGIN:VTIMEZONE
TZID:Europe/Berlin
X-LIC-LOCATION:Europe/Berlin
BEGIN:STANDARD
DTSTART:20221030T020000
TZOFFSETFROM:+0200
TZOFFSETTO:+0100
TZNAME:CET
END:STANDARD
END:VTIMEZONE
END:VCALENDAR