BEGIN:VCALENDAR
VERSION:2.0
PRODID:-//wp-events-plugin.com//7.2.3.1//EN
TZID:Europe/Berlin
X-WR-TIMEZONE:Europe/Berlin
BEGIN:VEVENT
UID:0-691@blogs.hrz.tu-freiberg.de
DTSTART;TZID=Europe/Berlin:20250910T193000
DTEND;TZID=Europe/Berlin:20250910T210000
DTSTAMP:20250423T135116Z
URL:https://blogs.hrz.tu-freiberg.de/ag-umwelt/events/lecture-series-with-
 nabu-freiberg-2-2025-09-10/
SUMMARY:Lecture Series with NABU Freiberg | Agroforstwirtschaft und Keyline
  Design - wirksame Werkzeuge der Klimaanpassung
DESCRIPTION:further Information see our Instagram\, recent Blogposts and po
 sters on campus
CATEGORIES:Vortrag
LOCATION:SPQ-1301 (1. OG)\, Prüferstraße 4\, Freiberg\, Sachsen \, 09599\
 , Mittelsachsen\, Deutschland
X-APPLE-STRUCTURED-LOCATION;VALUE=URI;X-ADDRESS=Prüferstraße 4\, Freiberg
 \, Sachsen \, 09599\, Mittelsachsen\, Deutschland;X-APPLE-RADIUS=100;X-TIT
 LE=SPQ-1301 (1. OG):geo:0,0
END:VEVENT
BEGIN:VTIMEZONE
TZID:Europe/Berlin
X-LIC-LOCATION:Europe/Berlin
BEGIN:DAYLIGHT
DTSTART:20250330T030000
TZOFFSETFROM:+0100
TZOFFSETTO:+0200
TZNAME:CEST
END:DAYLIGHT
END:VTIMEZONE
END:VCALENDAR