BEGIN:VCALENDAR
VERSION:2.0
PRODID:-//wp-events-plugin.com//7.2.3.1//EN
TZID:Europe/Berlin
X-WR-TIMEZONE:Europe/Berlin
BEGIN:VEVENT
UID:0-546@blogs.hrz.tu-freiberg.de
DTSTART;TZID=Europe/Berlin:20240814T194000
DTEND;TZID=Europe/Berlin:20240814T210000
DTSTAMP:20240810T130121Z
URL:https://blogs.hrz.tu-freiberg.de/ag-umwelt/events/lecture-series-with-
 nabu-freiberg-2024-08-14/
SUMMARY:CANCELLED!! Lecture Series with NABU Freiberg | Artenvielfalt im Si
 edlungsraum
DESCRIPTION:\n\n!! ACHTUNG: Dieser Vortrag muss leider ausfallen\, wird abe
 r zu einem späterem Zeitpunkt nachgeholt.\n\nThema: Artenvielfalt im Sied
 lungsraum\n\nWann?: 14.08. 19:40Uhr\n\nWo?: SPQ-1301\n\nArtenschutz geht n
 ur in Naturschutzgebieten? Quatsch! Auch vor der eigenen Haustür lässt s
 ich einiges umsetzen\, um dem Insektensterben etwas entgegenzusetzen.\nWer
 ner Hentschel stellt uns am 14.08.2024 das sachsenweite Projekt “inuvers
 umm” vor. Dieses beschäftigt sich mit der Förderung der Artenvielfalt 
 im Siedlungsraum. Im Besonderen geht es bei dem Vortrag mit Diskussion um 
 Ideen\, Potenziale und Beispiele im Raum Freiberg.\nDie Veranstaltung ist 
 Teil einer Vortragsreihe der AG Umwelt gemeinsam mit dem NABU Freiberg\, d
 ie jeden zweiten Mittwoch des Monats stattfindet. Es geht immer um 19:40 U
 hr im Schlossplatzquartier im großen Hörsaal (SPQ 1301\, Prüferstraße 
 4 im 1. OG) los.\nAlle Termine sind selbstverständlich kostenlos und öff
 entlich zugänglich. Kommt gerne vorbei und sagt es weiter!\n\nWeitere Inf
 os: https://freiberg.nabu-sachsen.de/projekte/inuversumm-raum-und-zeit-fue
 r-insekten/\n\n&nbsp\;\n\nIm Falle eines Livestreams ist dieser hier abruf
 bar. (keine/nur begrenzte Chatmöglichkeit)
ATTACH;FMTTYPE=image/jpeg:https://blogs.hrz.tu-freiberg.de/ag-umwelt/wp-co
 ntent/uploads/sites/70/2024/06/SPQ1301.jpg
CATEGORIES:Vortrag
LOCATION:SPQ-1301 (1. OG)\, Prüferstraße 4\, Freiberg\, Sachsen \, 09599\
 , Mittelsachsen\, Deutschland
X-APPLE-STRUCTURED-LOCATION;VALUE=URI;X-ADDRESS=Prüferstraße 4\, Freiberg
 \, Sachsen \, 09599\, Mittelsachsen\, Deutschland;X-APPLE-RADIUS=100;X-TIT
 LE=SPQ-1301 (1. OG):geo:0,0
END:VEVENT
BEGIN:VTIMEZONE
TZID:Europe/Berlin
X-LIC-LOCATION:Europe/Berlin
BEGIN:DAYLIGHT
DTSTART:20240331T030000
TZOFFSETFROM:+0100
TZOFFSETTO:+0200
TZNAME:CEST
END:DAYLIGHT
END:VTIMEZONE
END:VCALENDAR