BEGIN:VCALENDAR
VERSION:2.0
PRODID:-//wp-events-plugin.com//7.2.3.1//EN
TZID:Europe/Berlin
X-WR-TIMEZONE:Europe/Berlin
BEGIN:VEVENT
UID:0-549@blogs.hrz.tu-freiberg.de
DTSTART;TZID=Europe/Berlin:20240911T194000
DTEND;TZID=Europe/Berlin:20240911T210000
DTSTAMP:20240819T130530Z
URL:https://blogs.hrz.tu-freiberg.de/ag-umwelt/events/lecture-series-with-
 nabu-freiberg-2024-09-11/
SUMMARY:Lecture Series with NABU Freiberg | Solarparks - Erneuerbare Energi
 en und Artenschutz auf einer Fläche
DESCRIPTION:Auch 30 Jahre nach Ratifizierung der Klima- und Biodiversitäts
 konvention in Rio ist trotz vielfältiger Bekundungen keine Trendumkehr zu
 r Lösung der beiden akuten Bedrohungen für die Menschheit erkennbar. Ang
 esichts des national und international politisch wie gesellschaftlich gewo
 llten Ausbaus der erneuerbaren Energien bietet sich eine vergleichsweise e
 infache und zeitnah umzusetzende Möglichkeit\, Klima- und Biodiversitäts
 schutz auf einer Fläche integrativ zu realisieren.\nSolarparks können be
 i entsprechender Flächenwahl und Gestaltung sowie unter Berücksichtigung
  naturschutzfachlicher Kriterien nicht nur einen wichtigen Beitrag zum Kli
 maschutz\, sondern gleichzeitig auch für den Erhalt und die Förderung vo
 n Biodiversität leisten.\nWie das geht\, wird uns Dr. Tim Peschel am Aben
 d des 11. September vorstellen. Die Veranstaltung ist Teil einer Vortragsr
 eihe der AG Umwelt gemeinsam mit dem NABU Freiberg\, die jeden zweiten Mit
 twoch des Monats stattfindet. Es geht immer um 19:40 Uhr im Schlossplatzqu
 artier im großen Hörsaal (SPQ 1301\, Prüferstraße 4 im 1. OG) los.\nAl
 le Termine sind selbstverständlich kostenlos und öffentlich zugänglich.
  Kommt gerne vorbei und sagt es weiter!\n\n\nIm Falle eines Livestreams is
 t dieser hier abrufbar. (keine/nur begrenzte Chatmöglichkeit)
ATTACH;FMTTYPE=image/jpeg:https://blogs.hrz.tu-freiberg.de/ag-umwelt/wp-co
 ntent/uploads/sites/70/2024/06/SPQ1301.jpg
CATEGORIES:Vortrag
LOCATION:SPQ-1301 (1. OG)\, Prüferstraße 4\, Freiberg\, Sachsen \, 09599\
 , Mittelsachsen\, Deutschland
X-APPLE-STRUCTURED-LOCATION;VALUE=URI;X-ADDRESS=Prüferstraße 4\, Freiberg
 \, Sachsen \, 09599\, Mittelsachsen\, Deutschland;X-APPLE-RADIUS=100;X-TIT
 LE=SPQ-1301 (1. OG):geo:0,0
END:VEVENT
BEGIN:VTIMEZONE
TZID:Europe/Berlin
X-LIC-LOCATION:Europe/Berlin
BEGIN:DAYLIGHT
DTSTART:20240331T030000
TZOFFSETFROM:+0100
TZOFFSETTO:+0200
TZNAME:CEST
END:DAYLIGHT
END:VTIMEZONE
END:VCALENDAR