BEGIN:VCALENDAR
VERSION:2.0
PRODID:-//wp-events-plugin.com//7.2.3.1//EN
TZID:Europe/Berlin
X-WR-TIMEZONE:Europe/Berlin
BEGIN:VEVENT
UID:0-552@blogs.hrz.tu-freiberg.de
DTSTART;TZID=Europe/Berlin:20241009T194000
DTEND;TZID=Europe/Berlin:20241009T210000
DTSTAMP:20241003T154706Z
URL:https://blogs.hrz.tu-freiberg.de/ag-umwelt/events/lecture-series-with-
 nabu-freiberg-2024-10-09/
SUMMARY:Lecture Series with NABU Freiberg | Erzgebirgische Moore im Wandel 
 der Zeiten
DESCRIPTION:Lange galten die Moore als unheimliche\, lebensfeindliche und n
 icht nutzbare Lebensräume. In Jahrhunderten abgebaut und entwässert exis
 tieren die Moore nur noch fragmentarisch oder in einem schlechten Zustand.
  Aber mit dem heutigen Wissen über Moore wachsen die Aufgaben\, diese Leb
 ensräume zu erhalten und wiederherzustellen.\nWie das gelingen kann\, wir
 d uns Anke Haupt am Abend des 09. Oktober vorstellen. Die Veranstaltung is
 t Teil einer Vortragsreihe der AG Umwelt gemeinsam mit dem NABU Freiberg\,
  die jeden zweiten Mittwoch des Monats stattfindet. Es geht immer um 19:40
  Uhr im Schlossplatzquartier im großen Hörsaal (SPQ 1301\, Prüferstraß
 e 4 im 1. OG) los.\nAlle Termine sind selbstverständlich kostenlos und ö
 ffentlich zugänglich. Kommt gerne vorbei und sagt es weiter!\nIm Falle ei
 nes Livestreams ist dieser hier abrufbar. (keine/nur begrenzte Chatmöglic
 hkeit)\n\n&nbsp\;
ATTACH;FMTTYPE=image/jpeg:https://blogs.hrz.tu-freiberg.de/ag-umwelt/wp-co
 ntent/uploads/sites/70/2024/06/SPQ1301.jpg
CATEGORIES:Vortrag
LOCATION:SPQ-1301 (1. OG)\, Prüferstraße 4\, Freiberg\, Sachsen \, 09599\
 , Mittelsachsen\, Deutschland
X-APPLE-STRUCTURED-LOCATION;VALUE=URI;X-ADDRESS=Prüferstraße 4\, Freiberg
 \, Sachsen \, 09599\, Mittelsachsen\, Deutschland;X-APPLE-RADIUS=100;X-TIT
 LE=SPQ-1301 (1. OG):geo:0,0
END:VEVENT
BEGIN:VTIMEZONE
TZID:Europe/Berlin
X-LIC-LOCATION:Europe/Berlin
BEGIN:DAYLIGHT
DTSTART:20240331T030000
TZOFFSETFROM:+0100
TZOFFSETTO:+0200
TZNAME:CEST
END:DAYLIGHT
END:VTIMEZONE
END:VCALENDAR