BEGIN:VCALENDAR
VERSION:2.0
PRODID:-//wp-events-plugin.com//7.2.3.1//EN
TZID:Europe/Berlin
X-WR-TIMEZONE:Europe/Berlin
BEGIN:VEVENT
UID:0-575@blogs.hrz.tu-freiberg.de
DTSTART;TZID=Europe/Berlin:20250312T194000
DTEND;TZID=Europe/Berlin:20250312T213000
DTSTAMP:20241003T155617Z
URL:https://blogs.hrz.tu-freiberg.de/ag-umwelt/events/lecture-series-with-
 nabu-freiberg-artenvielfalt-in-urbanen-raeumen-insektenfreundliches-mahdre
 gime-und-weitere-biodiversitaetsfoerdernde-massnahmen-am-campus-der-univer
 sitaet-bayreuth/
SUMMARY:Lecture Series with NABU Freiberg | Artenvielfalt in urbanen Räume
 n: Insektenfreundliches Mahdregime und weitere biodiversitätsfördernde M
 aßnahmen am Campus der Universität Bayreuth
DESCRIPTION:further information will be available soon
ATTACH;FMTTYPE=image/jpeg:https://blogs.hrz.tu-freiberg.de/ag-umwelt/wp-co
 ntent/uploads/sites/70/2024/06/SPQ1301.jpg
CATEGORIES:Vortrag
LOCATION:SPQ-1301 (1. OG)\, Prüferstraße 4\, Freiberg\, Sachsen \, 09599\
 , Mittelsachsen\, Deutschland
X-APPLE-STRUCTURED-LOCATION;VALUE=URI;X-ADDRESS=Prüferstraße 4\, Freiberg
 \, Sachsen \, 09599\, Mittelsachsen\, Deutschland;X-APPLE-RADIUS=100;X-TIT
 LE=SPQ-1301 (1. OG):geo:0,0
END:VEVENT
BEGIN:VTIMEZONE
TZID:Europe/Berlin
X-LIC-LOCATION:Europe/Berlin
BEGIN:STANDARD
DTSTART:20241027T020000
TZOFFSETFROM:+0200
TZOFFSETTO:+0100
TZNAME:CET
END:STANDARD
END:VTIMEZONE
END:VCALENDAR