BEGIN:VCALENDAR
VERSION:2.0
PRODID:-//wp-events-plugin.com//7.2.3.1//EN
TZID:Europe/Berlin
X-WR-TIMEZONE:Europe/Berlin
BEGIN:VEVENT
UID:0-302@blogs.hrz.tu-freiberg.de
DTSTART;TZID=Europe/Berlin:20231025T161500
DTEND;TZID=Europe/Berlin:20231025T174500
DTSTAMP:20231018T125004Z
URL:https://blogs.hrz.tu-freiberg.de/ag-umwelt/events/offene-sitzung-open-
 meeting/
SUMMARY:Offene Sitzung/Open Meeting
DESCRIPTION:** English below! **\n\nOffene Sitzung zum Kennenlernen ab 16 U
 hr in der neuen Bib. Treff ist unten am Eingang!\nWir freuen uns auf dich!
 \n\n----------------------------------------------------------\n\nOpen mee
 ting starting at 4pm in the new library. Meet downstairs at the entrance!\
 nWe look forward to seeing you!
CATEGORIES:Sitzung
LOCATION:Universitätsbibliothek "Georgius Agricola" - Raum 3.213\, Winkler
 straße 3\, Freiberg\, Deutschland
X-APPLE-STRUCTURED-LOCATION;VALUE=URI;X-ADDRESS=Winklerstraße 3\, Freiberg
 \, Deutschland;X-APPLE-RADIUS=100;X-TITLE=Universitätsbibliothek \"Georgi
 us Agricola\" - Raum 3.213:geo:0,0
END:VEVENT
BEGIN:VTIMEZONE
TZID:Europe/Berlin
X-LIC-LOCATION:Europe/Berlin
BEGIN:DAYLIGHT
DTSTART:20230326T030000
TZOFFSETFROM:+0100
TZOFFSETTO:+0200
TZNAME:CEST
END:DAYLIGHT
END:VTIMEZONE
END:VCALENDAR