BEGIN:VCALENDAR
VERSION:2.0
PRODID:-//wp-events-plugin.com//7.2.3.1//EN
TZID:Europe/Berlin
X-WR-TIMEZONE:Europe/Berlin
BEGIN:VEVENT
UID:0-67@blogs.hrz.tu-freiberg.de
DTSTART;TZID=Europe/Berlin:20211026T194500
DTEND;TZID=Europe/Berlin:20211026T210000
DTSTAMP:20211022T110207Z
URL:https://blogs.hrz.tu-freiberg.de/ag-umwelt/events/online-vortrag-zum-t
 hema-artgerechte-tierhaltung/
SUMMARY:Online-Vortrag zum Thema Artgerechte Tierhaltung
DESCRIPTION:Ihr könnt über folgenden Link an dem Vortrag teilnehmen: http
 s://us02web.zoom.us/j/9286983561
CATEGORIES:Vortrag
LOCATION:https://us02web.zoom.us/j/9286983561
END:VEVENT
BEGIN:VTIMEZONE
TZID:Europe/Berlin
X-LIC-LOCATION:Europe/Berlin
BEGIN:DAYLIGHT
DTSTART:20210328T030000
TZOFFSETFROM:+0100
TZOFFSETTO:+0200
TZNAME:CEST
END:DAYLIGHT
END:VTIMEZONE
END:VCALENDAR