BEGIN:VCALENDAR
VERSION:2.0
PRODID:-//wp-events-plugin.com//7.2.3.1//EN
TZID:Europe/Berlin
X-WR-TIMEZONE:Europe/Berlin
BEGIN:VEVENT
UID:0-3@blogs.hrz.tu-freiberg.de
DTSTART;TZID=Europe/Berlin:20201026T180000
DTEND;TZID=Europe/Berlin:20201026T193000
DTSTAMP:20201025T155240Z
URL:https://blogs.hrz.tu-freiberg.de/ag-umwelt/events/onlinesitzung-ag-umw
 elt/
SUMMARY:Onlinesitzung AG Umwelt
DESCRIPTION:Heute findet unsere Sitzung Online statt.\n\nSie beginnt 18 Uhr
 .\n\nUnter folgendem Link kannst du teilnehmen: https://teach.informatik.t
 u-freiberg.de/b/bal-tjx-xqm-fu6\n\n&nbsp\;
CATEGORIES:Sitzung
LOCATION:https://teach.informatik.tu-freiberg.de/b/bal-tjx-xqm-fu6
END:VEVENT
BEGIN:VTIMEZONE
TZID:Europe/Berlin
X-LIC-LOCATION:Europe/Berlin
BEGIN:STANDARD
DTSTART:20201025T020000
TZOFFSETFROM:+0200
TZOFFSETTO:+0100
TZNAME:CET
END:STANDARD
END:VTIMEZONE
END:VCALENDAR