BEGIN:VCALENDAR
VERSION:2.0
PRODID:-//wp-events-plugin.com//7.2.3.1//EN
TZID:Europe/Berlin
X-WR-TIMEZONE:Europe/Berlin
BEGIN:VEVENT
UID:0-96@blogs.hrz.tu-freiberg.de
DTSTART;TZID=Europe/Berlin:20220124T193000
DTEND;TZID=Europe/Berlin:20220124T213000
DTSTAMP:20211225T103234Z
URL:https://blogs.hrz.tu-freiberg.de/ag-umwelt/events/onlineveranstaltung-
 regionale-lebensmittelversorgung/
SUMMARY:Onlineveranstaltung: Regionale Lebensmittelversorgung
DESCRIPTION:Die Freiberger Agenda 21 und der Verein Allmende Taucha e.V.
  laden herzlich zu einer Online-Veranstaltung am 24. Januar 2022\, 19:30-
 21:00 Uhr\, ein.\n\nDie Veranstaltung findet unter diesem Link via Zoom st
 att: Zoom Video-Konferenz https://zoom.us/j/97991961694?pwd=WmE4VmlyWlFzW
 kE2aGIzcytZd2hZZz09  \n\nEs bedarf keiner Anmeldung. Jeder kann sich einf
 ach dazu schalten.\n\nWenn ihr zu dem Thema nichts verpassen wollt und auc
 h in Zukunft über diese Veranstaltungsreihe informiert werden wollt\, dan
 n Dann tragt euch gern hier ein: Kontaktformular 
CATEGORIES:Vortrag
END:VEVENT
BEGIN:VTIMEZONE
TZID:Europe/Berlin
X-LIC-LOCATION:Europe/Berlin
BEGIN:STANDARD
DTSTART:20211031T020000
TZOFFSETFROM:+0200
TZOFFSETTO:+0100
TZNAME:CET
END:STANDARD
END:VTIMEZONE
END:VCALENDAR