BEGIN:VCALENDAR
VERSION:2.0
PRODID:-//wp-events-plugin.com//7.2.3.1//EN
TZID:Europe/Berlin
X-WR-TIMEZONE:Europe/Berlin
BEGIN:VEVENT
UID:0-63@blogs.hrz.tu-freiberg.de
DTSTART;TZID=Europe/Berlin:20210911T110000
DTEND;TZID=Europe/Berlin:20210911T180000
DTSTAMP:20210904T101622Z
URL:https://blogs.hrz.tu-freiberg.de/ag-umwelt/events/solidarischer-flohma
 rkt-freiberg/
SUMMARY:Solidarischer Flohmarkt Freiberg
DESCRIPTION:Am Samstag\, den 11.09.2021\, veranstaltet das Junge Netzwerk F
 reiberg einen Solidarischen Flohmarkt im Gemeindehaus St. Johannis (Anton-
 Günther-Straße 16).  Von 11:00 – 18:00 Uhr sind alle herzlich dazu ei
 ngeladen\, durch die Stände zu stöbern und sich kostenlos etwas mitzuneh
 men.\n\n&nbsp\;
END:VEVENT
BEGIN:VTIMEZONE
TZID:Europe/Berlin
X-LIC-LOCATION:Europe/Berlin
BEGIN:DAYLIGHT
DTSTART:20210328T030000
TZOFFSETFROM:+0100
TZOFFSETTO:+0200
TZNAME:CEST
END:DAYLIGHT
END:VTIMEZONE
END:VCALENDAR