BEGIN:VCALENDAR
VERSION:2.0
PRODID:-//wp-events-plugin.com//7.2.3.1//EN
TZID:Europe/Berlin
X-WR-TIMEZONE:Europe/Berlin
BEGIN:VEVENT
UID:0-572@blogs.hrz.tu-freiberg.de
DTSTART;TZID=Europe/Berlin:20240913T093000
DTEND;TZID=Europe/Berlin:20240913T160000
DTSTAMP:20240628T084443Z
URL:https://blogs.hrz.tu-freiberg.de/ag-umwelt/events/vortrag-erhalt-von-w
 ald-lebensraeumen-in-zeiten-von-klimawandel-und-waldumbau/
SUMMARY:Vortrag: Erhalt von Wald-Lebensräumen in Zeiten von Klimawandel un
 d Waldumbau
DESCRIPTION:Format: Online oder Präsenz\n\nModeration: Prof. em. Dr. Dr. h
 .c. Peter A. Schmidt\n\nweitere Informationen: https://www.lanu.de/veranst
 altung/erhalt-von-wald-lebensraeumen-in-zeiten-von-klimaw/2024-09-13/eid/M
 jc2NQ==\n\nAnmeldung bis 04.09.2024
ATTACH;FMTTYPE=image/jpeg:https://blogs.hrz.tu-freiberg.de/ag-umwelt/wp-co
 ntent/uploads/sites/70/2024/06/032030_F_Klenke_NSG_Scheergrund_NSGC91_LK_M
 ittelsachsen_2.jpg
CATEGORIES:Vortrag
LOCATION:Alte Mensa Freiberg\, Petersstraße5 \, Freiberg\, Sachsen\, 09599
 \, Mittelsachsen\, Deutschland
X-APPLE-STRUCTURED-LOCATION;VALUE=URI;X-ADDRESS=Petersstraße5 \, Freiberg\
 , Sachsen\, 09599\, Mittelsachsen\, Deutschland;X-APPLE-RADIUS=100;X-TITLE
 =Alte Mensa Freiberg:geo:0,0
END:VEVENT
BEGIN:VTIMEZONE
TZID:Europe/Berlin
X-LIC-LOCATION:Europe/Berlin
BEGIN:DAYLIGHT
DTSTART:20240331T030000
TZOFFSETFROM:+0100
TZOFFSETTO:+0200
TZNAME:CEST
END:DAYLIGHT
END:VTIMEZONE
END:VCALENDAR