BEGIN:VCALENDAR
VERSION:2.0
PRODID:-//wp-events-plugin.com//7.2.3.1//EN
TZID:Europe/Berlin
X-WR-TIMEZONE:Europe/Berlin
BEGIN:VEVENT
UID:0-97@blogs.hrz.tu-freiberg.de
DTSTART;TZID=Europe/Berlin:20220201T194500
DTEND;TZID=Europe/Berlin:20220201T213000
DTSTAMP:20220112T113401Z
URL:https://blogs.hrz.tu-freiberg.de/ag-umwelt/events/vortrag-moore-und-de
 ren-beitrag-zum-klimaschutz/
SUMMARY:Vortrag Moore und deren Beitrag zum Klimaschutz
DESCRIPTION:Vortragslink: https://us02web.zoom.us/j/9286983561
CATEGORIES:Vortrag
END:VEVENT
BEGIN:VTIMEZONE
TZID:Europe/Berlin
X-LIC-LOCATION:Europe/Berlin
BEGIN:STANDARD
DTSTART:20211031T020000
TZOFFSETFROM:+0200
TZOFFSETTO:+0100
TZNAME:CET
END:STANDARD
END:VTIMEZONE
END:VCALENDAR