BEGIN:VCALENDAR
VERSION:2.0
PRODID:-//wp-events-plugin.com//7.2.3.1//EN
TZID:Europe/Berlin
X-WR-TIMEZONE:Europe/Berlin
BEGIN:VEVENT
UID:0-207@blogs.hrz.tu-freiberg.de
DTSTART;TZID=Europe/Berlin:20230201T194500
DTEND;TZID=Europe/Berlin:20230201T210000
DTSTAMP:20230113T150509Z
URL:https://blogs.hrz.tu-freiberg.de/ag-umwelt/events/vortrag-windenergie-
 im-wald/
SUMMARY:Vortrag - Windenergie im Wald
DESCRIPTION:** English below**\n\nVortragsthema: Windenergie im Wald\n\nZur
  Erreichung der Klimaziele ist es dringend erforderlich\, die Windenergien
 utzung an Land erheblich auszubauen. Das hat auch die amtierende Bundesreg
 ierung erkannt und sich dafür ehrgeizige Ziele gesetzt: So soll die Strom
 erzeugungsleistung der landgestützten Windenergieanlagen bis 2030 verdopp
 elt werden – auf dann 115 Gigawatt. Um dies zu erreichen wird bereits se
 it einigen Jahren vermehrt auf Windenergieanlagen im Wald zurückgegriffen
 .\n\n(c) FA Wind\n\nMit diesem Vortrag wollen wir einen ersten Einblick in
  die Thematik geben und freuen uns auf eine anregende Diskussion.\n\nRefer
 entin: Dipl.-Ing.\, Dipl.-Ökologin Claudia Bredemann von der Fachagentur 
 Windenergie an Land e.V.\n\nWo?: Zoom (Meeting-ID: 673 7273 7019)\n\nSprac
 he: Deutsch\n\n&nbsp\;\n\n\nLecture topic: Wind energy in the forest\n\nTo
  achieve the climate targets\, it is urgently necessary to significantly e
 xpand the use of onshore wind energy. The current German government has al
 so recognized this and has set itself ambitious targets: the power generat
 ion capacity of land-based wind turbines is to be doubled by 2030 - to 115
  gigawatts. In order to achieve this\, wind turbines in the forest have al
 ready been increasingly used for several years.\n\n(c) FA Wind\n\nWith thi
 s presentation we want to give a first insight into the topic and look for
 ward to a stimulating discussion.\n\nSpeaker: Dipl. -Ing. \, Dipl. -Ecolog
 ist Claudia Bredemann from the Fachagentur Windenergie an Land e. V. (onsh
 ore wind energy agency).\n\nWhere: Zoom (Meeting-ID: 673 7273 7019)\n\n\nL
 anguage: German\n\n
CATEGORIES:Vortrag
END:VEVENT
BEGIN:VTIMEZONE
TZID:Europe/Berlin
X-LIC-LOCATION:Europe/Berlin
BEGIN:STANDARD
DTSTART:20221030T020000
TZOFFSETFROM:+0200
TZOFFSETTO:+0100
TZNAME:CET
END:STANDARD
END:VTIMEZONE
END:VCALENDAR