BEGIN:VCALENDAR
VERSION:2.0
PRODID:-//wp-events-plugin.com//7.2.3.1//EN
TZID:Europe/Berlin
X-WR-TIMEZONE:Europe/Berlin
BEGIN:VEVENT
UID:0-11@blogs.hrz.tu-freiberg.de
DTSTART;TZID=Europe/Berlin:20210202T194500
DTEND;TZID=Europe/Berlin:20210202T210000
DTSTAMP:20201107T162954Z
URL:https://blogs.hrz.tu-freiberg.de/ag-umwelt/events/vortrag-zum-thema-re
 genwaldprojekt-in-madagaskar-schuelerengagement-fuer-tropennaturschutz/
SUMMARY:Vortrag zum Thema: "Regenwaldprojekt in Madagaskar - Schülerengage
 ment für Tropennaturschutz"
DESCRIPTION:
LOCATION:Uni Hauptgebäude\, Akademiestraße 6\, Freiberg\, Sachsen\, 09599
 \, Deutschland
X-APPLE-STRUCTURED-LOCATION;VALUE=URI;X-ADDRESS=Akademiestraße 6\, Freiber
 g\, Sachsen\, 09599\, Deutschland;X-APPLE-RADIUS=100;X-TITLE=Uni Hauptgeb
 äude:geo:0,0
END:VEVENT
BEGIN:VTIMEZONE
TZID:Europe/Berlin
X-LIC-LOCATION:Europe/Berlin
BEGIN:STANDARD
DTSTART:20201025T020000
TZOFFSETFROM:+0200
TZOFFSETTO:+0100
TZNAME:CET
END:STANDARD
END:VTIMEZONE
END:VCALENDAR