BEGIN:VCALENDAR
VERSION:2.0
PRODID:-//wp-events-plugin.com//7.2.3.1//EN
TZID:Europe/Berlin
X-WR-TIMEZONE:Europe/Berlin
BEGIN:VEVENT
UID:0-1025@blogs.hrz.tu-freiberg.de
DTSTART;TZID=Europe/Berlin:20260407T153000
DTEND;TZID=Europe/Berlin:20260407T183000
DTSTAMP:20260401T085216Z
URL:https://blogs.hrz.tu-freiberg.de/fachgruppe-geooekologie/events/1-stre
 uobstwieseneinsatz-april-2026/
SUMMARY:1. Streuobstwieseneinsatz April 2026
DESCRIPTION:Treffpunkt: Bushaltestelle Hainichener Str./Friedeburger Str. v
 or dem silber-schwarzen Tor.  Flexibles Kommen und Gehen möglich. \n\nW
 as haben wir vor? Entfernen von Brombeeren\, Staudenknöterich und kleiner
 e Aufräumarbeiten. Nebenbei kannst du auch die Streuobstwiese erkunden un
 d dabei Neues entdecken.  \n\nMitbringen: wettergerechte Arbeitskleidung\
 , Zeckenschutz
CATEGORIES:AG Umwelt
LOCATION:Streuobstwiese auf dem Unicampus\, Hainichener Straße 46\, Freibe
 rg\, Deutschland
X-APPLE-STRUCTURED-LOCATION;VALUE=URI;X-ADDRESS=Hainichener Straße 46\, Fr
 eiberg\, Deutschland;X-APPLE-RADIUS=100;X-TITLE=Streuobstwiese auf dem Uni
 campus:geo:0,0
END:VEVENT
BEGIN:VTIMEZONE
TZID:Europe/Berlin
X-LIC-LOCATION:Europe/Berlin
BEGIN:DAYLIGHT
DTSTART:20260329T030000
TZOFFSETFROM:+0100
TZOFFSETTO:+0200
TZNAME:CEST
END:DAYLIGHT
END:VTIMEZONE
END:VCALENDAR