BEGIN:VCALENDAR
VERSION:2.0
PRODID:-//wp-events-plugin.com//7.2.3.1//EN
TZID:Europe/Berlin
X-WR-TIMEZONE:Europe/Berlin
BEGIN:VEVENT
UID:0-347@blogs.hrz.tu-freiberg.de
DTSTART;TZID=Europe/Berlin;VALUE=DATE:20240726
DTEND;TZID=Europe/Berlin;VALUE=DATE:20240803
DTSTAMP:20240326T184639Z
URL:https://blogs.hrz.tu-freiberg.de/fachgruppe-geooekologie/events/29-sch
 ellerhauer-naturschutzpraktikum/
SUMMARY:29. Schellerhauer Naturschutzpraktikum
DESCRIPTION:Vom 26. Juli bis 2. August findet wieder das internationale Sch
 ellerhauer Naturschutzpraktikum statt.\n\nNeben praktischer Naturschutzarb
 eit gibt es ein vielfältiges naturkundliches Rahmenprogramm. Die Teilnahm
 e ist kostenfrei.\n\nWeitere Infos findet ihr im Flyer Schellerhauer Prakt
 . 2024_Naturschutzstation Osterzgebirge.
CATEGORIES:Exkursion,NABU Arbeitseinsatz
END:VEVENT
BEGIN:VTIMEZONE
TZID:Europe/Berlin
X-LIC-LOCATION:Europe/Berlin
BEGIN:DAYLIGHT
DTSTART:20240331T030000
TZOFFSETFROM:+0100
TZOFFSETTO:+0200
TZNAME:CEST
END:DAYLIGHT
END:VTIMEZONE
END:VCALENDAR