BEGIN:VCALENDAR
VERSION:2.0
PRODID:-//wp-events-plugin.com//7.2.3.1//EN
TZID:Europe/Berlin
X-WR-TIMEZONE:Europe/Berlin
BEGIN:VEVENT
UID:0-362@blogs.hrz.tu-freiberg.de
DTSTART;TZID=Europe/Berlin;VALUE=DATE:20240621
DTEND;TZID=Europe/Berlin;VALUE=DATE:20240624
DTSTAMP:20240425T062152Z
URL:https://blogs.hrz.tu-freiberg.de/fachgruppe-geooekologie/events/69-jah
 restagung-der-arbeitsgemeinschaft-saechsicher-botaniker/
SUMMARY:69. Jahrestagung der Arbeitsgemeinschaft sächsicher Botaniker
DESCRIPTION:Was?: 69. Jahrestagung der Arbeitsgemeinschaft sächsicher Bota
 niker\n\nWo?: Kurort Seiffen (Erzgebirge)\n\nWann?: Beginn 21.06.24 10:00\
 n\nProgramm: Einladung Botanikertagung 2024\n\nTagungsgebühr (Mitglieder/
 Nicht-Mitglieder): 10€/20€\nVerpflegung und Übernachtung selbts trage
 n --&gt\; bereits vorreservierte Zimmer können bis 16.5. gebucht werden (
 nähere Infos in der Programm-PDF)
LOCATION:Buntes Haus - Hotel Erbgericht Seiffen\, Hauptstraße 94\, Kurort 
 Seiffen\, Sachsen\, 09548\, Erzgebirge\, Deutschland
X-APPLE-STRUCTURED-LOCATION;VALUE=URI;X-ADDRESS=Hauptstraße 94\, Kurort Se
 iffen\, Sachsen\, 09548\, Erzgebirge\, Deutschland;X-APPLE-RADIUS=100;X-TI
 TLE=Buntes Haus - Hotel Erbgericht Seiffen:geo:0,0
END:VEVENT
BEGIN:VTIMEZONE
TZID:Europe/Berlin
X-LIC-LOCATION:Europe/Berlin
BEGIN:DAYLIGHT
DTSTART:20240331T030000
TZOFFSETFROM:+0100
TZOFFSETTO:+0200
TZNAME:CEST
END:DAYLIGHT
END:VTIMEZONE
END:VCALENDAR