BEGIN:VCALENDAR
VERSION:2.0
PRODID:-//wp-events-plugin.com//7.2.3.1//EN
TZID:Europe/Berlin
X-WR-TIMEZONE:Europe/Berlin
BEGIN:VEVENT
UID:0-1010@blogs.hrz.tu-freiberg.de
DTSTART;TZID=Europe/Berlin;VALUE=DATE:20260603
DTEND;TZID=Europe/Berlin;VALUE=DATE:20260610
DTSTAMP:20260330T072614Z
URL:https://blogs.hrz.tu-freiberg.de/fachgruppe-geooekologie/events/77-bht
 -freiberger-universitaetsforum/
SUMMARY:77. BHT-Freiberger Universitätsforum
DESCRIPTION:Am 3. Juni 2026 startet das 77. BHT-Freiberger Universitätsfor
 um. Bei dieser jährlich stattfindenden Forschungskonferenz der TU Bergaka
 demie Freiberg kommen nationale und internationale Teilnehmende aus Wissen
 schaft\, Wirtschaft und Politik zusammen\, um sich über aktuelle Entwickl
 ungen in Forschung und Technologie auszutauschen.\n\n•        Das BH
 T bietet eine hervorragende Gelegenheit\, Praxis und Forschung zu verbinde
 n.\n•        Studierende können wertvolle Einblicke in aktuelle For
 schungsprojekte gewinnen und Kontakte für Abschlussarbeiten\, Praktika od
 er den Berufseinstieg knüpfen.\n•        Die Teilnahme ist für Stu
 dierende der TUBAF kostenfrei (nur Anmeldung nötig).\n•        Fors
 chende profitieren vom interdisziplinären Austausch und der Möglichkeit\
 , eigene Arbeiten einem breiten Publikum vorzustellen.\n\nWeitere Informat
 ionen findet ihr unter: https://tu-freiberg.de/bht
CATEGORIES:Universitäre Veranstaltung
END:VEVENT
BEGIN:VTIMEZONE
TZID:Europe/Berlin
X-LIC-LOCATION:Europe/Berlin
BEGIN:DAYLIGHT
DTSTART:20260329T030000
TZOFFSETFROM:+0100
TZOFFSETTO:+0200
TZNAME:CEST
END:DAYLIGHT
END:VTIMEZONE
END:VCALENDAR