BEGIN:VCALENDAR
VERSION:2.0
PRODID:-//wp-events-plugin.com//7.2.3.1//EN
TZID:Europe/Berlin
X-WR-TIMEZONE:Europe/Berlin
BEGIN:VEVENT
UID:0-263@blogs.hrz.tu-freiberg.de
DTSTART;TZID=Europe/Berlin:20231211T140000
DTEND;TZID=Europe/Berlin:20231211T153000
DTSTAMP:20231129T101850Z
URL:https://blogs.hrz.tu-freiberg.de/fachgruppe-geooekologie/events/analys
 e-der-vegetation-auf-kalamitaetsbedingten-kahlflaechen-im-mittleren-erzgeb
 irge-unter-besonderer-beruecksichtigung-der-baumartenverjuengung/
SUMMARY:Analyse der Vegetation auf kalamitätsbedingten Kahlflächen im mit
 tleren Erzgebirge unter besonderer Berücksichtigung der Baumartenverjüng
 ung.
DESCRIPTION:Topic: Bird casualities at wind turbines: Analysis of Vegetatio
 n on Calamity-Induced Clear-Cut Areas in the Central Ore Mountains with Sp
 ecial Regard to Tree Species Rejuvenation.\n\nInfos zu dieser und weiteren
  Arbeiten findet ihr auch auf der Seite der AG Biologie/Ökologie.
CATEGORIES:Verteidigung
LOCATION:Aufenthaltsraum WIN Zi. 18\, Leipziger Str 29\, 09599 Freiberg\, D
 eutschland
X-APPLE-STRUCTURED-LOCATION;VALUE=URI;X-ADDRESS=Leipziger Str 29\, 09599 Fr
 eiberg\, Deutschland;X-APPLE-RADIUS=100;X-TITLE=Aufenthaltsraum WIN Zi. 18
 :geo:0,0
END:VEVENT
BEGIN:VTIMEZONE
TZID:Europe/Berlin
X-LIC-LOCATION:Europe/Berlin
BEGIN:STANDARD
DTSTART:20231029T020000
TZOFFSETFROM:+0200
TZOFFSETTO:+0100
TZNAME:CET
END:STANDARD
END:VTIMEZONE
END:VCALENDAR