BEGIN:VCALENDAR
VERSION:2.0
PRODID:-//wp-events-plugin.com//7.2.3.1//EN
TZID:Europe/Berlin
X-WR-TIMEZONE:Europe/Berlin
BEGIN:VEVENT
UID:0-1151@blogs.hrz.tu-freiberg.de
DTSTART;TZID=Europe/Berlin:20260427T160000
DTEND;TZID=Europe/Berlin:20260427T190000
DTSTAMP:20260421T121011Z
URL:https://blogs.hrz.tu-freiberg.de/fachgruppe-geooekologie/events/arbeit
 seinsatz-streuobstwiese-27-04-26/
SUMMARY:Arbeitseinsatz Streuobstwiese 27.04.26
DESCRIPTION:Treffpunkt: Bushaltestelle Hainichener Str./Friedeburger Str. v
 or dem silber-schwarzen Tor.\nWas haben wir vor? Entfernen von Staudenknö
 terich\, Brombeeren und Gehölzaufwuchs sowie kleinere Aufräumarbeiten. N
 ebenbei kannst du auch die Streuobstwiese erkunden und dabei Neues entdeck
 en.\nMitbringen: Arbeitskleidung\, die kaputt und dreckig werden darf\, Ge
 tränke\, Zecken- und Sonnenschutz\nHinweise: Wir behalten uns vor\, den E
 insatz auch kurzfristig u.a. wegen Wetter (Regen\,…) abzusagen.
CATEGORIES:AG Umwelt
LOCATION:Streuobstwiese auf dem Unicampus\, Hainichener Straße 46\, Freibe
 rg\, Deutschland
X-APPLE-STRUCTURED-LOCATION;VALUE=URI;X-ADDRESS=Hainichener Straße 46\, Fr
 eiberg\, Deutschland;X-APPLE-RADIUS=100;X-TITLE=Streuobstwiese auf dem Uni
 campus:geo:0,0
END:VEVENT
BEGIN:VTIMEZONE
TZID:Europe/Berlin
X-LIC-LOCATION:Europe/Berlin
BEGIN:DAYLIGHT
DTSTART:20260329T030000
TZOFFSETFROM:+0100
TZOFFSETTO:+0200
TZNAME:CEST
END:DAYLIGHT
END:VTIMEZONE
END:VCALENDAR