BEGIN:VCALENDAR
VERSION:2.0
PRODID:-//wp-events-plugin.com//7.2.3.1//EN
TZID:Europe/Berlin
X-WR-TIMEZONE:Europe/Berlin
BEGIN:VEVENT
UID:0-1148@blogs.hrz.tu-freiberg.de
DTSTART;TZID=Europe/Berlin:20260507T140000
DTEND;TZID=Europe/Berlin:20260507T180000
DTSTAMP:20260420T125711Z
URL:https://blogs.hrz.tu-freiberg.de/fachgruppe-geooekologie/events/arcadi
 s-careerday/
SUMMARY:Arcadis CareerDay
DESCRIPTION:Erlebe Arcadis hautnah!\nLerne unsere Projekte\, Teams und Arbe
 itswelt kennen\nVorstellung unserer Abteilungen: Tragwerksplanung Hochbau\
 , Siedlungswasserwirtschaft\, Verkehrsanlagenplanung\,\nGeoinformationssys
 teme\, Architektur Hochbau\, Freianlagenplanung\, Altlasten\, Retail Banki
 ng sowie Planung\nBahntechnische Ausrüstung und Konstruktiver Ingenieurba
 u\n• Entdecke unsere Arbeit live – mit modernster Software\, die Zukun
 ft gestaltet!\n• Präsentation unserer interaktiven Modelleisenbahn Inno
 City\n• Welcher Job passt zu dir? Karrierechancen mit deinem Abschluss\n
 • Tipps und Tricks für deine erste Bewerbung inkl. Fotoshooting\n• Sn
 acks und Drinks bei lockerem Get-Together\n\nUnsere Einladung richtet sich
  insbesondere an Studierende ab dem 4. Semester aus Studiengängen\, die z
 u unseren\nArbeitsfeldern passen – wie Bauingenieurwesen\, Geographie\, 
 Architektur- und Landschaftsarchitektur\, Umwelt- und\nVerkehrsplanung\, V
 erkehrswissenschaft (insb. Bahn und Straßen) sowie Elektrotechnik und Inf
 ormationstechnik – die sich\nfür innovative Projekte und praxisnahe Ein
 blicke interessieren.\nOb Praktikum\, Werkstudium oder Direkteinstieg – 
 entdecke deine Möglichkeiten bei uns!\n\nAlle Infos hier: 2026_ADE_Plakat
 -A3-Hochformat-CareerDay-DD
LOCATION:Arcadis Germany GmbH\, Ringstraße 6\, Dresden\, 01067\, Deutschla
 nd
X-APPLE-STRUCTURED-LOCATION;VALUE=URI;X-ADDRESS=Ringstraße 6\, Dresden\, 0
 1067\, Deutschland;X-APPLE-RADIUS=100;X-TITLE=Arcadis Germany GmbH:geo:0,0
END:VEVENT
BEGIN:VTIMEZONE
TZID:Europe/Berlin
X-LIC-LOCATION:Europe/Berlin
BEGIN:DAYLIGHT
DTSTART:20260329T030000
TZOFFSETFROM:+0100
TZOFFSETTO:+0200
TZNAME:CEST
END:DAYLIGHT
END:VTIMEZONE
END:VCALENDAR