BEGIN:VCALENDAR
VERSION:2.0
PRODID:-//wp-events-plugin.com//7.2.3.1//EN
TZID:Europe/Berlin
X-WR-TIMEZONE:Europe/Berlin
BEGIN:VEVENT
UID:0-613@blogs.hrz.tu-freiberg.de
DTSTART;TZID=Europe/Berlin;VALUE=DATE:20250605
DTEND;TZID=Europe/Berlin;VALUE=DATE:20250608
DTSTAMP:20250319T183053Z
URL:https://blogs.hrz.tu-freiberg.de/fachgruppe-geooekologie/events/aufbau
 kurs-graeser-kennart-block-1/
SUMMARY:Aufbaukurs Gräser KennArt Block 1
DESCRIPTION:https://www.artenkenntnis.de/kurse/aufbaukurs-graeser-bestimmen
 /\nAnmeldung bis 21.04.2025
END:VEVENT
BEGIN:VTIMEZONE
TZID:Europe/Berlin
X-LIC-LOCATION:Europe/Berlin
BEGIN:DAYLIGHT
DTSTART:20250330T030000
TZOFFSETFROM:+0100
TZOFFSETTO:+0200
TZNAME:CEST
END:DAYLIGHT
END:VTIMEZONE
END:VCALENDAR