BEGIN:VCALENDAR
VERSION:2.0
PRODID:-//wp-events-plugin.com//7.2.3.1//EN
TZID:Europe/Berlin
X-WR-TIMEZONE:Europe/Berlin
BEGIN:VEVENT
UID:0-646@blogs.hrz.tu-freiberg.de
DTSTART;TZID=Europe/Berlin:20250522T093000
DTEND;TZID=Europe/Berlin:20250522T103000
DTSTAMP:20250424T172234Z
URL:https://blogs.hrz.tu-freiberg.de/fachgruppe-geooekologie/events/b-sc-v
 erteidigung-charakterisierung-und-loeslichkeit-von-holzkohlen-aus-experime
 ntellem-pyrolyse-und-natuerlichem-abbrand-waldbrandgebiete-nationalpark-sa
 echsische-schweiz/
SUMMARY:B.Sc. Verteidigung: Charakterisierung und Löslichkeit von Holzkohl
 en aus experimentellem (Pyrolyse) und natürlichem Abbrand (Waldbrandgebie
 te Nationalpark Sächsische Schweiz)
DESCRIPTION:
CATEGORIES:Universitäre Veranstaltung,Verteidigung
LOCATION:WER-1218\, Brennhausgasse 14\, Freiberg\, 09599\, Deutschland
X-APPLE-STRUCTURED-LOCATION;VALUE=URI;X-ADDRESS=Brennhausgasse 14\, Freiber
 g\, 09599\, Deutschland;X-APPLE-RADIUS=100;X-TITLE=WER-1218:geo:0,0
END:VEVENT
BEGIN:VTIMEZONE
TZID:Europe/Berlin
X-LIC-LOCATION:Europe/Berlin
BEGIN:DAYLIGHT
DTSTART:20250330T030000
TZOFFSETFROM:+0100
TZOFFSETTO:+0200
TZNAME:CEST
END:DAYLIGHT
END:VTIMEZONE
END:VCALENDAR