BEGIN:VCALENDAR
VERSION:2.0
PRODID:-//wp-events-plugin.com//7.2.3.1//EN
TZID:Europe/Berlin
X-WR-TIMEZONE:Europe/Berlin
BEGIN:VEVENT
UID:0-488@blogs.hrz.tu-freiberg.de
DTSTART;TZID=Europe/Berlin:20241114T094500
DTEND;TZID=Europe/Berlin:20241114T104500
DTSTAMP:20241106T152928Z
URL:https://blogs.hrz.tu-freiberg.de/fachgruppe-geooekologie/events/b-sc-v
 erteidigung-sentinel-2-basierte-erfolgskontrolle-von-sanierungsmassnahmen-
 zur-naehrstoffminderung-in-eutrophen-gewaessern/
SUMMARY:B.Sc.-Verteidigung: Sentinel-2-basierte Erfolgskontrolle von Sanier
 ungsmaßnahmen zur Nährstoffminderung in eutrophen Gewässern
DESCRIPTION:Was?: Bachelorverteidigung zum Thema "Sentinel-2-basierte Erfol
 gskontrolle von Sanierungsmaßnahmen zur Nährstoffminderung in eutrophen 
 Gewässern"\nWann?: 14.11.2024\, 9:45\nWo?: Seminarraum 2\, Bibliotheks- u
 nd Hörsaalzentrum (UBH-0209)\nWer?: Riethmüller\n\n&nbsp\;
CATEGORIES:Verteidigung
LOCATION:Seminarraum 2 UBH (UBH-0209)\, Winklerstraße 3\, Freiberg\, Deuts
 chland
X-APPLE-STRUCTURED-LOCATION;VALUE=URI;X-ADDRESS=Winklerstraße 3\, Freiberg
 \, Deutschland;X-APPLE-RADIUS=100;X-TITLE=Seminarraum 2 UBH (UBH-0209):geo
 :0,0
END:VEVENT
BEGIN:VTIMEZONE
TZID:Europe/Berlin
X-LIC-LOCATION:Europe/Berlin
BEGIN:STANDARD
DTSTART:20241027T020000
TZOFFSETFROM:+0200
TZOFFSETTO:+0100
TZNAME:CET
END:STANDARD
END:VTIMEZONE
END:VCALENDAR