BEGIN:VCALENDAR
VERSION:2.0
PRODID:-//wp-events-plugin.com//7.2.3.1//EN
TZID:Europe/Berlin
X-WR-TIMEZONE:Europe/Berlin
BEGIN:VEVENT
UID:0-333@blogs.hrz.tu-freiberg.de
DTSTART;TZID=Europe/Berlin:20240222T100000
DTEND;TZID=Europe/Berlin:20240222T111500
DTSTAMP:20240219T134214Z
URL:https://blogs.hrz.tu-freiberg.de/fachgruppe-geooekologie/events/bachel
 or-verteidigung-standortkundliche-charakterisierung-des-oekologischen-wein
 bergs-burgberg-meissen-anhand-ausgewaehlter-mikroklimatischer-parameter-si
 te-characterization-of-the-ecological-vin/
SUMMARY:Bachelor-Verteidigung | Standortkundliche Charakterisierung des Ök
 ologischen Weinbergs Burgberg Meißen anhand ausgewählter mikroklimatisch
 er Parameter. - Site characterization of the ecological vineyard Burgberg 
 Meißen on basis of selected microclimatic parameters.
DESCRIPTION:Thema:\n\nStandortkundliche Charakterisierung des Ökologischen
  Weinbergs Burgberg Meißen anhand ausgewählter mikroklimatischer Paramet
 er.\nSite characterization of the ecological vineyard Burgberg Meißen on 
 basis of selected microclimatic parameters.\n\nRaum: Raum 18 im WIN (Leipz
 iger Straße 29\, EG)\n\nWann? 22.02.2024 10:00
CATEGORIES:Verteidigung
LOCATION:Aufenthaltsraum WIN Zi. 18\, Leipziger Str 29\, 09599 Freiberg\, D
 eutschland
X-APPLE-STRUCTURED-LOCATION;VALUE=URI;X-ADDRESS=Leipziger Str 29\, 09599 Fr
 eiberg\, Deutschland;X-APPLE-RADIUS=100;X-TITLE=Aufenthaltsraum WIN Zi. 18
 :geo:0,0
END:VEVENT
BEGIN:VTIMEZONE
TZID:Europe/Berlin
X-LIC-LOCATION:Europe/Berlin
BEGIN:STANDARD
DTSTART:20231029T020000
TZOFFSETFROM:+0200
TZOFFSETTO:+0100
TZNAME:CET
END:STANDARD
END:VTIMEZONE
END:VCALENDAR