BEGIN:VCALENDAR
VERSION:2.0
PRODID:-//wp-events-plugin.com//7.2.3.1//EN
TZID:Europe/Berlin
X-WR-TIMEZONE:Europe/Berlin
BEGIN:VEVENT
UID:0-822@blogs.hrz.tu-freiberg.de
DTSTART;TZID=Europe/Berlin:20260115T200000
DTEND;TZID=Europe/Berlin:20260115T213000
DTSTAMP:20260107T100718Z
URL:https://blogs.hrz.tu-freiberg.de/fachgruppe-geooekologie/events/berufs
 infoabend-des-vgoed-01-2026/
SUMMARY:Berufsinfoabend des VGÖD 01/2026
DESCRIPTION:Berufsinfoabend des VGÖD (wird zukünftig regelmäßig stattfi
 nden).\n\nErster Gast: Dr. Markus Dotterweich (Geoökologie-Abschluss 1998
  in Potsdam). Er hat u.a. als Firmengründer\, Geschäftsführer\, Abteilu
 ngsleiter\, Dozent und Projektleiter gearbeitet – z.B. im Bereich GIS &a
 mp\; digitale Umweltbildung (Udata) – und ist außerdem zertifizierter b
 odenkundlicher Baubegleiter.\n💻 Wo? Zoom: https://us06web.zoom.us/j/846
 76737469?pwd=KKXW5Kns7IY5YLQNU4eB4VdmgWErzs.1\n🔑 Kenncode: 454386\n⏳ 
 Dauer ca. 1\,5 Stunden – mit viel Zeit für eure Fragen!
CATEGORIES:VGöD-Veranstaltung
END:VEVENT
BEGIN:VTIMEZONE
TZID:Europe/Berlin
X-LIC-LOCATION:Europe/Berlin
BEGIN:STANDARD
DTSTART:20251026T020000
TZOFFSETFROM:+0200
TZOFFSETTO:+0100
TZNAME:CET
END:STANDARD
END:VTIMEZONE
END:VCALENDAR