BEGIN:VCALENDAR
VERSION:2.0
PRODID:-//wp-events-plugin.com//7.2.3.1//EN
TZID:Europe/Berlin
X-WR-TIMEZONE:Europe/Berlin
BEGIN:VEVENT
UID:0-1001@blogs.hrz.tu-freiberg.de
DTSTART;TZID=Europe/Berlin:20260312T200000
DTEND;TZID=Europe/Berlin:20260312T213000
DTSTAMP:20260308T231554Z
URL:https://blogs.hrz.tu-freiberg.de/fachgruppe-geooekologie/events/berufs
 infoabend-des-vgoed-03-2026-2/
SUMMARY:Berufsinfoabend des VGÖD 03/2026
DESCRIPTION:Diesmal ist Tillmann Butschard dabei. Er ist Professor für Ang
 ewandte Landschaftsökologie und Ökologische Planung in Münster und wird
  ein bisschen über seinen Job und seinen Werdegang erzählen 🌿🏫\n\n
 Wenn ihr neugierig seid\, wie der Weg in die Forschung bzw. Professur auss
 ehen kann oder euch das Thema Landschaftsökologie interessiert\, schaut g
 erne vorbei 👀\n\n📄 Hier findet ihr auch die nächsten Vortragenden (
 immer im 2-Wochen-Rhythmus):\n\nhttps://www.vgoed.de/beruf/berufsinfoabend
 e.html\n\n💻 Wo? Zoom: https://us06web.zoom.us/j/84676737469?pwd=KKXW5Kn
 s7IY5YLQNU4eB4VdmgWErzs.1\n🔑 Kenncode: 454386\n⏳ Dauer ca. 1\,5 Stund
 en – mit viel Zeit für eure Fragen!
CATEGORIES:VGöD-Veranstaltung
END:VEVENT
BEGIN:VTIMEZONE
TZID:Europe/Berlin
X-LIC-LOCATION:Europe/Berlin
BEGIN:STANDARD
DTSTART:20251026T020000
TZOFFSETFROM:+0200
TZOFFSETTO:+0100
TZNAME:CET
END:STANDARD
END:VTIMEZONE
END:VCALENDAR