BEGIN:VCALENDAR
VERSION:2.0
PRODID:-//wp-events-plugin.com//7.2.3.1//EN
TZID:Europe/Berlin
X-WR-TIMEZONE:Europe/Berlin
BEGIN:VEVENT
UID:0-29@blogs.hrz.tu-freiberg.de
DTSTART;TZID=Europe/Berlin:20211029T140000
DTEND;TZID=Europe/Berlin:20211030T140000
DTSTAMP:20211102T105907Z
URL:https://blogs.hrz.tu-freiberg.de/fachgruppe-geooekologie/events/ersti-
 wanderung-2/
SUMMARY:Ersti-Wanderung
DESCRIPTION:Danke\, dass ihr mit wart! Uns hat es riesig Spaß gemacht\, eu
 ch hoffentlich auch. Das Essen war lecker und das Wetter hat so gut mitgem
 acht\, dass einige sogar motiviert waren\, auch den Rückweg zu wandern.\n
 \nWir hoffen\, dass wir in Kontakt bleiben. Bis dahin!\n\nDie Fachgruppe
END:VEVENT
BEGIN:VTIMEZONE
TZID:Europe/Berlin
X-LIC-LOCATION:Europe/Berlin
BEGIN:DAYLIGHT
DTSTART:20210328T030000
TZOFFSETFROM:+0100
TZOFFSETTO:+0200
TZNAME:CEST
END:DAYLIGHT
END:VTIMEZONE
END:VCALENDAR