BEGIN:VCALENDAR
VERSION:2.0
PRODID:-//wp-events-plugin.com//7.2.3.1//EN
TZID:Europe/Berlin
X-WR-TIMEZONE:Europe/Berlin
BEGIN:VEVENT
UID:0-568@blogs.hrz.tu-freiberg.de
DTSTART;TZID=Europe/Berlin:20250704T210000
DTEND;TZID=Europe/Berlin:20250704T233000
DTSTAMP:20250623T183902Z
URL:https://blogs.hrz.tu-freiberg.de/fachgruppe-geooekologie/events/exkurs
 ion-faszination-gluehwuermchen/
SUMMARY:NABU: Exkursion „Faszination Glühwürmchen"
DESCRIPTION:Der NABU Freiberg bietet eine Exkursion „Faszination Glühwü
 rmchen" an.\n\nAm Freitag den 4. Juli tauchen wir ein in die Nacht und er
 fahren mehr über die fliegenden Lämpchen\, ihr Leben\, woher sie kommen 
 und was es mit ihnen auf sich hat.\n\nTreffpunkt ist 21:30 Uhr am Sportl
 erheim in Zethau (Schulweg 6\, 09619 Mulda/Sachsen). Teilnehmer aus Freibe
 rg treffen sich 21 Uhr an der NABU-Geschäftsstelle in der Bernhard-Kel
 lermann-Straße 20 in Freiberg und fahren in Fahrgemeinschaften nach Zeth
 au. Gegen 23:30 Uhr sind wir zurück in Freiberg. \n\n\nWir bitten um Anm
 eldung (per E-Mail an freiberg@nabu-sachsen.de) unter Angabe der Telefonnu
 mmer für die Organisation von Fahrgemeinschaften sowie für kurzfristige 
 Absprachen.\n\n\nDie Veranstaltung ist kostenlos. Wir freuen uns über ei
 ne Spende!
CATEGORIES:Exkursion
END:VEVENT
BEGIN:VTIMEZONE
TZID:Europe/Berlin
X-LIC-LOCATION:Europe/Berlin
BEGIN:DAYLIGHT
DTSTART:20250330T030000
TZOFFSETFROM:+0100
TZOFFSETTO:+0200
TZNAME:CEST
END:DAYLIGHT
END:VTIMEZONE
END:VCALENDAR