BEGIN:VCALENDAR
VERSION:2.0
PRODID:-//wp-events-plugin.com//7.2.3.1//EN
TZID:Europe/Berlin
X-WR-TIMEZONE:Europe/Berlin
BEGIN:VEVENT
UID:0-84@blogs.hrz.tu-freiberg.de
DTSTART;TZID=Europe/Berlin:20230716T130000
DTEND;TZID=Europe/Berlin:20230716T160000
DTSTAMP:20230707T055407Z
URL:https://blogs.hrz.tu-freiberg.de/fachgruppe-geooekologie/events/exkurs
 ion-halden-bei-brand-erbisdorf-nabu/
SUMMARY:Exkursion: Halden bei Brand-Erbisdorf (NABU)
DESCRIPTION:Der NABU Freiberg bietet eine Exkursion auf die Bergbauhalden b
 ei Brand-Erbisdorf an. Aufgrund des besonderen Substrats und der Nutzung k
 onnten sich hier außergewöhnliche Pflanzengesellschaften etablieren. All
 erdings ist regelmäßig Pflege nötig\, um sie zu erhalten.\n\nDie Exkurs
 ion vermittelt Artenkenntnis und Praxiswissen.\nAnmeldung bei Herrn Andrea
 s Püwert
CATEGORIES:Exkursion
END:VEVENT
BEGIN:VTIMEZONE
TZID:Europe/Berlin
X-LIC-LOCATION:Europe/Berlin
BEGIN:DAYLIGHT
DTSTART:20230326T030000
TZOFFSETFROM:+0100
TZOFFSETTO:+0200
TZNAME:CEST
END:DAYLIGHT
END:VTIMEZONE
END:VCALENDAR