BEGIN:VCALENDAR
VERSION:2.0
PRODID:-//wp-events-plugin.com//7.2.3.1//EN
TZID:Europe/Berlin
X-WR-TIMEZONE:Europe/Berlin
BEGIN:VEVENT
UID:0-464@blogs.hrz.tu-freiberg.de
DTSTART;TZID=Europe/Berlin:20241009T090000
DTEND;TZID=Europe/Berlin:20241009T123000
DTSTAMP:20240928T174144Z
URL:https://blogs.hrz.tu-freiberg.de/fachgruppe-geooekologie/events/exkurs
 ion-in-die-reiche-zeche-%e2%9a%92%ef%b8%8f/
SUMMARY:Exkursion in die Reiche Zeche ⚒️
DESCRIPTION:Liebe Göks &amp\; BUS\,\nals kleinen Appetizer für das Winter
 semester gibt es am 9. Oktober 2024 eine Exkursion in die Reiche Zeche!⚒
 ️\nProfessor Gerhard Heide wird uns mitnehmen auf den Weg des Wassers un
 d zu den bemerkenswerten Phänomenen der Freiberger Unterwelt.🪸\nLos ge
 ht es um 9:00 Uhr und 12:30 Uhr fahren wir wieder aus - das Mensa-Mittages
 sen ist also sicher😋.\nGebt gern eine kurze Rückmeldung (persönlich o
 der per E-Mail: fachgruppegoek[at]outlook.de)\, ob ihr dabei seid\, damit 
 wir die Anzahl der Seilfahrten einschätzen können (6 Personen pro Förde
 rkorb).\nGlück Auf!\nEure Fachgruppe
CATEGORIES:Exkursion
LOCATION:Reiche Zeche\, Fuchsmühlenweg 9\, Freiberg\, Deutschland
X-APPLE-STRUCTURED-LOCATION;VALUE=URI;X-ADDRESS=Fuchsmühlenweg 9\, Freiber
 g\, Deutschland;X-APPLE-RADIUS=100;X-TITLE=Reiche Zeche:geo:0,0
END:VEVENT
BEGIN:VTIMEZONE
TZID:Europe/Berlin
X-LIC-LOCATION:Europe/Berlin
BEGIN:DAYLIGHT
DTSTART:20240331T030000
TZOFFSETFROM:+0100
TZOFFSETTO:+0200
TZNAME:CEST
END:DAYLIGHT
END:VTIMEZONE
END:VCALENDAR