BEGIN:VCALENDAR
VERSION:2.0
PRODID:-//wp-events-plugin.com//7.2.3.1//EN
TZID:Europe/Berlin
X-WR-TIMEZONE:Europe/Berlin
BEGIN:VEVENT
UID:0-547@blogs.hrz.tu-freiberg.de
DTSTART;TZID=Europe/Berlin:20250412T100000
DTEND;TZID=Europe/Berlin:20250412T120000
DTSTAMP:20250203T211354Z
URL:https://blogs.hrz.tu-freiberg.de/fachgruppe-geooekologie/events/exkurs
 ion-kraeuterwanderung-im-freiberger-stadtwald/
SUMMARY:Exkursion Kräuterwanderung im Freiberger Stadtwald
DESCRIPTION:Der NABU Freiberg bietet eine Kräuterwanderung im Freiberger S
 tadtwald an.\n\nEine Anmeldung (per E-Mail an freiberg@nabu-sachsen.de) is
 t erforderlich\, da die Teilnehmerzahl begrenzt ist.
CATEGORIES:Exkursion
END:VEVENT
BEGIN:VTIMEZONE
TZID:Europe/Berlin
X-LIC-LOCATION:Europe/Berlin
BEGIN:DAYLIGHT
DTSTART:20250330T030000
TZOFFSETFROM:+0100
TZOFFSETTO:+0200
TZNAME:CEST
END:DAYLIGHT
END:VTIMEZONE
END:VCALENDAR