BEGIN:VCALENDAR
VERSION:2.0
PRODID:-//wp-events-plugin.com//7.2.3.1//EN
TZID:Europe/Berlin
X-WR-TIMEZONE:Europe/Berlin
BEGIN:VEVENT
UID:0-571@blogs.hrz.tu-freiberg.de
DTSTART;TZID=Europe/Berlin:20251004T080000
DTEND;TZID=Europe/Berlin:20251004T120000
DTSTAMP:20250203T212857Z
URL:https://blogs.hrz.tu-freiberg.de/fachgruppe-geooekologie/events/exkurs
 ion-pilzwanderung/
SUMMARY:Exkursion Pilzwanderung
DESCRIPTION:Der NABU Freiberg bietet eine Pilzwanderung im Zellwald an.\n\n
 Eine Anmeldung (per E-Mail an freiberg@nabu-sachsen.de) ist erforderlich\,
  da die Teilnehmerzahl begrenzt ist.
CATEGORIES:Exkursion
END:VEVENT
BEGIN:VTIMEZONE
TZID:Europe/Berlin
X-LIC-LOCATION:Europe/Berlin
BEGIN:DAYLIGHT
DTSTART:20250330T030000
TZOFFSETFROM:+0100
TZOFFSETTO:+0200
TZNAME:CEST
END:DAYLIGHT
END:VTIMEZONE
END:VCALENDAR