BEGIN:VCALENDAR
VERSION:2.0
PRODID:-//wp-events-plugin.com//7.2.3.1//EN
TZID:Europe/Berlin
X-WR-TIMEZONE:Europe/Berlin
BEGIN:VEVENT
UID:0-16@blogs.hrz.tu-freiberg.de
DTSTART;TZID=Europe/Berlin;VALUE=DATE:20200517
DTEND;TZID=Europe/Berlin;VALUE=DATE:20200525
DTSTAMP:20200301T165251Z
URL:https://blogs.hrz.tu-freiberg.de/fachgruppe-geooekologie/events/exkurs
 ion-slowakei-17-24-mai-2020/
SUMMARY:Exkursion Slowakei Mai 2020
DESCRIPTION:This 1-week field trip for geoecology students (both bachelor a
 nd master) aims at an interdisciplinary discussion of global challenges on
  a regional level – exemplified in the Slovak Republic. The field trip w
 ill show observation and monitoring methodologies (May 18\, 20\, 21\, 23) 
 on various levels from atmospheric and climate to ecosystems research\, as
  well as cover topics such as nature protection and renaturation (May 18 t
 o 23). Nearly pristine ecosystems and various stages of disturbance and de
 terioration shall be visited and discussed.\nStations: Day 01: travel. Day
  02: Aerological and solar radiation center of Slovak Hydrometeorological 
 Institute\, Gánovce. Mineral springs and archaeopark. Day 03: Slovak Para
 dise National Park. All-day hiking. Day 04: Skalnate Pleso Observatory\, h
 ike to Velke Hincovo pleso. Day 05: TANAP: Long-term monitoring plots for 
 forest ecosystem development. Day 06: Transfer to Zvolen (pure travel time
  2.5 hrs on highway via Ružomberok) with several stops. Day 07: Zvolen ci
 ty and Technical University\, and Polana Biosphere Reserve. Day 08: return
  travel.\nMinimum student participant number: 8\, maximum: 16 (1 or 2 rent
 al vans).\nTotal costs: not yet perfectly clear\, but around 250 Euro per 
 person.\nRegistrations: as of now and only with a down-payment of 30 Euro 
 per person to our secretary\, Katja Horota.\n\nMit Dank und Gruß\nJörg M
 atschullat
CATEGORIES:Exkursion
END:VEVENT
BEGIN:VTIMEZONE
TZID:Europe/Berlin
X-LIC-LOCATION:Europe/Berlin
BEGIN:DAYLIGHT
DTSTART:20200329T030000
TZOFFSETFROM:+0100
TZOFFSETTO:+0200
TZNAME:CEST
END:DAYLIGHT
END:VTIMEZONE
END:VCALENDAR