BEGIN:VCALENDAR
VERSION:2.0
PRODID:-//wp-events-plugin.com//7.2.3.1//EN
TZID:Europe/Berlin
X-WR-TIMEZONE:Europe/Berlin
BEGIN:VEVENT
UID:0-87@blogs.hrz.tu-freiberg.de
DTSTART;TZID=Europe/Berlin:20230723T130000
DTEND;TZID=Europe/Berlin:20230723T160000
DTSTAMP:20230707T060101Z
URL:https://blogs.hrz.tu-freiberg.de/fachgruppe-geooekologie/events/exkurs
 ion-tagfalter-ihre-raupennahrungspflanzen-und-nektarquellen-nabu/
SUMMARY:Exkursion: Tagfalter\, ihre Raupennahrungspflanzen und Nektarquelle
 n (NABU)
DESCRIPTION:Auf den artenreichen Wiesen bei Langenau werden Falter bestimmt
  und ihre Ökologie erläutert. Außerdem wird es um das Artenschutzprojek
 t Ameisenbläuling gehen.\nDer Helle Wiesenknopf-Ameisenbläuling (Maculin
 ea teleius) ist ein stark gefährdeter Schmetterling mit sehr spezieller L
 ebensweise - aber mehr dazu am 23. Juli.\n\nAnmeldung bei Herrn Andreas P
 üwert\n
CATEGORIES:Exkursion
END:VEVENT
BEGIN:VTIMEZONE
TZID:Europe/Berlin
X-LIC-LOCATION:Europe/Berlin
BEGIN:DAYLIGHT
DTSTART:20230326T030000
TZOFFSETFROM:+0100
TZOFFSETTO:+0200
TZNAME:CEST
END:DAYLIGHT
END:VTIMEZONE
END:VCALENDAR