BEGIN:VCALENDAR
VERSION:2.0
PRODID:-//wp-events-plugin.com//7.2.3.1//EN
TZID:Europe/Berlin
X-WR-TIMEZONE:Europe/Berlin
BEGIN:VEVENT
UID:0-550@blogs.hrz.tu-freiberg.de
DTSTART;TZID=Europe/Berlin:20250421T083000
DTEND;TZID=Europe/Berlin:20250421T100000
DTSTAMP:20250203T211543Z
URL:https://blogs.hrz.tu-freiberg.de/fachgruppe-geooekologie/events/exkurs
 ion-vogelstimmenwanderung-fruehlingsankunft/
SUMMARY:Exkursion Vogelstimmenwanderung „ Frühlingsankunft"
DESCRIPTION:Der NABU Freiberg bietet eine Vogelstimmenwanderung „ Frühli
 ngsankunft" im Freiberger Stadtwald an. Start ist am Waldbad.\n\nEine Anme
 ldung (per E-Mail an freiberg@nabu-sachsen.de) ist erforderlich\, da die T
 eilnehmerzahl begrenzt ist.
CATEGORIES:Exkursion
END:VEVENT
BEGIN:VTIMEZONE
TZID:Europe/Berlin
X-LIC-LOCATION:Europe/Berlin
BEGIN:DAYLIGHT
DTSTART:20250330T030000
TZOFFSETFROM:+0100
TZOFFSETTO:+0200
TZNAME:CEST
END:DAYLIGHT
END:VTIMEZONE
END:VCALENDAR