BEGIN:VCALENDAR
VERSION:2.0
PRODID:-//wp-events-plugin.com//7.2.3.1//EN
TZID:Europe/Berlin
X-WR-TIMEZONE:Europe/Berlin
BEGIN:VEVENT
UID:0-559@blogs.hrz.tu-freiberg.de
DTSTART;TZID=Europe/Berlin:20250613T180000
DTEND;TZID=Europe/Berlin:20250613T190000
DTSTAMP:20250203T212117Z
URL:https://blogs.hrz.tu-freiberg.de/fachgruppe-geooekologie/events/exkurs
 ion-vogelstimmenwanderung-wochenausklang-mit-vogelgesang/
SUMMARY:Exkursion Vogelstimmenwanderung Wochenausklang mit Vogelgesang
DESCRIPTION:Der NABU Freiberg bietet eine Vogelstimmenwanderung „Wochenau
 sklang mit Vogelgesang" an. Treffpunkt ist die Buswendeschleife im Münzba
 chtal.\n\nEine Anmeldung (per E-Mail an freiberg@nabu-sachsen.de) ist erfo
 rderlich\, da die Teilnehmerzahl begrenzt ist.
CATEGORIES:Exkursion
END:VEVENT
BEGIN:VTIMEZONE
TZID:Europe/Berlin
X-LIC-LOCATION:Europe/Berlin
BEGIN:DAYLIGHT
DTSTART:20250330T030000
TZOFFSETFROM:+0100
TZOFFSETTO:+0200
TZNAME:CEST
END:DAYLIGHT
END:VTIMEZONE
END:VCALENDAR