BEGIN:VCALENDAR
VERSION:2.0
PRODID:-//wp-events-plugin.com//7.2.3.1//EN
TZID:Europe/Berlin
X-WR-TIMEZONE:Europe/Berlin
BEGIN:VEVENT
UID:0-873@blogs.hrz.tu-freiberg.de
DTSTART;TZID=Europe/Berlin;VALUE=DATE:20260915
DTEND;TZID=Europe/Berlin;VALUE=DATE:20260916
DTSTAMP:20260108T171204Z
URL:https://blogs.hrz.tu-freiberg.de/fachgruppe-geooekologie/events/fachgr
 uppe-botanik-freiberg-abendexkursion-teichschlammflora/
SUMMARY:Fachgruppe Botanik Freiberg: Abendexkursion Teichschlammflora
DESCRIPTION:Teichschlammflora (gemeinsam mit FG Erzgebirge)\;\nExkursionszi
 el wird kurzfristig bekanntgegeben.\n\nAlle Infos auch auf https://botanik
 -freiberg.nabu-sachsen.de/
CATEGORIES:Exkursion
END:VEVENT
BEGIN:VTIMEZONE
TZID:Europe/Berlin
X-LIC-LOCATION:Europe/Berlin
BEGIN:DAYLIGHT
DTSTART:20260329T030000
TZOFFSETFROM:+0100
TZOFFSETTO:+0200
TZNAME:CEST
END:DAYLIGHT
END:VTIMEZONE
END:VCALENDAR