BEGIN:VCALENDAR
VERSION:2.0
PRODID:-//wp-events-plugin.com//7.2.3.1//EN
TZID:Europe/Berlin
X-WR-TIMEZONE:Europe/Berlin
BEGIN:VEVENT
UID:0-867@blogs.hrz.tu-freiberg.de
DTSTART;TZID=Europe/Berlin:20260718T081500
DTEND;TZID=Europe/Berlin:20260718T161500
DTSTAMP:20260108T170956Z
URL:https://blogs.hrz.tu-freiberg.de/fachgruppe-geooekologie/events/fachgr
 uppe-botanik-freiberg-duebener-heide/
SUMMARY:Fachgruppe Botanik Freiberg: Dübener Heide
DESCRIPTION:8.15 Uhr Abfahrt B.-Kellermann-Str. 20\;\nExkursionsbeginn: 10 
 Uhr Mockrehna OT Torfhaus\n\nAlle Infos auch auf https://botanik-freiberg.
 nabu-sachsen.de/
CATEGORIES:Exkursion
END:VEVENT
BEGIN:VTIMEZONE
TZID:Europe/Berlin
X-LIC-LOCATION:Europe/Berlin
BEGIN:DAYLIGHT
DTSTART:20260329T030000
TZOFFSETFROM:+0100
TZOFFSETTO:+0200
TZNAME:CEST
END:DAYLIGHT
END:VTIMEZONE
END:VCALENDAR