BEGIN:VCALENDAR
VERSION:2.0
PRODID:-//wp-events-plugin.com//7.2.3.1//EN
TZID:Europe/Berlin
X-WR-TIMEZONE:Europe/Berlin
BEGIN:VEVENT
UID:0-834@blogs.hrz.tu-freiberg.de
DTSTART;TZID=Europe/Berlin:20260214T090000
DTEND;TZID=Europe/Berlin:20260214T120000
DTSTAMP:20260108T165749Z
URL:https://blogs.hrz.tu-freiberg.de/fachgruppe-geooekologie/events/fachgr
 uppe-botanik-freiberg-exkursion-bergbauhalden-suedlich-freiberg/
SUMMARY:Fachgruppe Botanik Freiberg: Exkursion Bergbauhalden südlich Freib
 erg
DESCRIPTION:9:00 Uhr Abfahrt B.-Kellermann-Str. 20\;\nExkursionsbeginn: 9:3
 0 Uhr Platz unterhalb der Beschert-Glück-Halde\n\nAlle Infos auch auf htt
 ps://botanik-freiberg.nabu-sachsen.de/
CATEGORIES:Exkursion
END:VEVENT
BEGIN:VTIMEZONE
TZID:Europe/Berlin
X-LIC-LOCATION:Europe/Berlin
BEGIN:STANDARD
DTSTART:20251026T020000
TZOFFSETFROM:+0200
TZOFFSETTO:+0100
TZNAME:CET
END:STANDARD
END:VTIMEZONE
END:VCALENDAR