BEGIN:VCALENDAR
VERSION:2.0
PRODID:-//wp-events-plugin.com//7.2.3.1//EN
TZID:Europe/Berlin
X-WR-TIMEZONE:Europe/Berlin
BEGIN:VEVENT
UID:0-858@blogs.hrz.tu-freiberg.de
DTSTART;TZID=Europe/Berlin:20260509T081500
DTEND;TZID=Europe/Berlin:20260509T161500
DTSTAMP:20260108T170652Z
URL:https://blogs.hrz.tu-freiberg.de/fachgruppe-geooekologie/events/fachgr
 uppe-botanik-freiberg-triebischwiesen-und-teiche-im-tharandter-wald/
SUMMARY:Fachgruppe Botanik Freiberg: Triebischwiesen und Teiche im Tharandt
 er Wald
DESCRIPTION:Triebischwiesen und Teiche im Tharandter Wald (gemeinsam mit FG
  Geobotanik des Elbhügellandes). 8.15 Uhr Abfahrt B.-Kellermann-Str.\;\nE
 xkursionsbeginn: 9.30 Uhr Zigeunerplatz nördlich Grillenburg\n\nAlle Info
 s auch auf https://botanik-freiberg.nabu-sachsen.de/
CATEGORIES:Exkursion
END:VEVENT
BEGIN:VTIMEZONE
TZID:Europe/Berlin
X-LIC-LOCATION:Europe/Berlin
BEGIN:DAYLIGHT
DTSTART:20260329T030000
TZOFFSETFROM:+0100
TZOFFSETTO:+0200
TZNAME:CEST
END:DAYLIGHT
END:VTIMEZONE
END:VCALENDAR