BEGIN:VCALENDAR
VERSION:2.0
PRODID:-//wp-events-plugin.com//7.2.3.1//EN
TZID:Europe/Berlin
X-WR-TIMEZONE:Europe/Berlin
BEGIN:VEVENT
UID:0-846@blogs.hrz.tu-freiberg.de
DTSTART;TZID=Europe/Berlin:20260924T190000
DTEND;TZID=Europe/Berlin:20260924T210000
DTSTAMP:20260108T170204Z
URL:https://blogs.hrz.tu-freiberg.de/fachgruppe-geooekologie/events/fachgr
 uppe-botanik-freiberg-vortraege-pflanzenvorstellung-familie-nelkengewaechs
 e-andreas-golde/
SUMMARY:Fachgruppe Botanik Freiberg: Vorträge Pflanzenvorstellung: Familie
  Nelkengewächse (Andreas Golde)
DESCRIPTION:Alle Infos auch auf https://botanik-freiberg.nabu-sachsen.de/
CATEGORIES:Vortrag
LOCATION:Geschäftsstelle NABU FG\, Bernhard-Kellermann-Straße 20\, Freibe
 rg\, Sachsen\, 09599\, Mittelsachsen\, Deutschland
X-APPLE-STRUCTURED-LOCATION;VALUE=URI;X-ADDRESS=Bernhard-Kellermann-Straße
  20\, Freiberg\, Sachsen\, 09599\, Mittelsachsen\, Deutschland;X-APPLE-RAD
 IUS=100;X-TITLE=Geschäftsstelle NABU FG:geo:0,0
END:VEVENT
BEGIN:VTIMEZONE
TZID:Europe/Berlin
X-LIC-LOCATION:Europe/Berlin
BEGIN:DAYLIGHT
DTSTART:20260329T030000
TZOFFSETFROM:+0100
TZOFFSETTO:+0200
TZNAME:CEST
END:DAYLIGHT
END:VTIMEZONE
END:VCALENDAR