BEGIN:VCALENDAR
VERSION:2.0
PRODID:-//wp-events-plugin.com//7.2.3.1//EN
TZID:Europe/Berlin
X-WR-TIMEZONE:Europe/Berlin
BEGIN:VEVENT
UID:0-843@blogs.hrz.tu-freiberg.de
DTSTART;TZID=Europe/Berlin:20260326T190000
DTEND;TZID=Europe/Berlin:20260326T210000
DTSTAMP:20260108T170120Z
URL:https://blogs.hrz.tu-freiberg.de/fachgruppe-geooekologie/events/fachgr
 uppe-botanik-freiberg-vortrag-hiddensee/
SUMMARY:Fachgruppe Botanik Freiberg: Vortrag Hiddensee
DESCRIPTION:Alle Infos auch auf https://botanik-freiberg.nabu-sachsen.de/
CATEGORIES:Vortrag
LOCATION:Geschäftsstelle NABU FG\, Bernhard-Kellermann-Straße 20\, Freibe
 rg\, Sachsen\, 09599\, Mittelsachsen\, Deutschland
X-APPLE-STRUCTURED-LOCATION;VALUE=URI;X-ADDRESS=Bernhard-Kellermann-Straße
  20\, Freiberg\, Sachsen\, 09599\, Mittelsachsen\, Deutschland;X-APPLE-RAD
 IUS=100;X-TITLE=Geschäftsstelle NABU FG:geo:0,0
END:VEVENT
BEGIN:VTIMEZONE
TZID:Europe/Berlin
X-LIC-LOCATION:Europe/Berlin
BEGIN:STANDARD
DTSTART:20251026T020000
TZOFFSETFROM:+0200
TZOFFSETTO:+0100
TZNAME:CET
END:STANDARD
END:VTIMEZONE
END:VCALENDAR