BEGIN:VCALENDAR
VERSION:2.0
PRODID:-//wp-events-plugin.com//7.2.3.1//EN
TZID:Europe/Berlin
X-WR-TIMEZONE:Europe/Berlin
BEGIN:VEVENT
UID:0-1022@blogs.hrz.tu-freiberg.de
DTSTART;TZID=Europe/Berlin:20260408T170000
DTEND;TZID=Europe/Berlin:20260408T190000
DTSTAMP:20260401T084248Z
URL:https://blogs.hrz.tu-freiberg.de/fachgruppe-geooekologie/events/fachgr
 uppensitzung-april-2026/
SUMMARY:Fachgruppensitzung April 2026
DESCRIPTION:
CATEGORIES:Offene Sitzung
LOCATION:UB Gruppenarbeitsraum 3.211\, Winklerstraße 3\, Freiberg\, Sachse
 n\, 09599\, Deutschland
X-APPLE-STRUCTURED-LOCATION;VALUE=URI;X-ADDRESS=Winklerstraße 3\, Freiberg
 \, Sachsen\, 09599\, Deutschland;X-APPLE-RADIUS=100;X-TITLE=UB Gruppenarbe
 itsraum 3.211:geo:0,0
END:VEVENT
BEGIN:VTIMEZONE
TZID:Europe/Berlin
X-LIC-LOCATION:Europe/Berlin
BEGIN:DAYLIGHT
DTSTART:20260329T030000
TZOFFSETFROM:+0100
TZOFFSETTO:+0200
TZNAME:CEST
END:DAYLIGHT
END:VTIMEZONE
END:VCALENDAR