BEGIN:VCALENDAR
VERSION:2.0
PRODID:-//wp-events-plugin.com//7.2.3.1//EN
TZID:Europe/Berlin
X-WR-TIMEZONE:Europe/Berlin
BEGIN:VEVENT
UID:0-455@blogs.hrz.tu-freiberg.de
DTSTART;TZID=Europe/Berlin:20240815T201500
DTEND;TZID=Europe/Berlin:20240815T221500
DTSTAMP:20240801T184941Z
URL:https://blogs.hrz.tu-freiberg.de/fachgruppe-geooekologie/events/fleder
 mausexkursion-stadtwald-freiberg-%f0%9f%a6%87/
SUMMARY:Fledermaus-Exkursion im Stadtwald🦇
DESCRIPTION:Liebe Naturfreunde\, liebe Batman-Fans\,\n\nwir laden Euch herz
 lich zur Fledermausexkursion in den Freiberger Stadtwald ein.\nWir werden 
 den Lebensraum und die Artenvielfalt dieser spannenden Säugetiere erkunde
 n und lernen\, was die Montanregion Erzgebirge für Fledermäuse so besond
 ers macht. Referentin ist Caroline Schulze.\n\nWann?: 15.08.2024\, Treffen
  um 20:15 Uhr (Achtung: Die Veranstaltung wurde vom 14. auf den 15. versch
 oben).\n\nWo?: Treffpunkt ist der Platz der Einheit in Freiberg.\n\nDie Te
 ilnehmerzahl ist auf 15 Personen begrenzt. Sollte die Anmeldezahl diese Te
 ilnehmerzahl überschreiten behalten wir uns vor die Studierenden der Stud
 iengänge GÖK und BUS zu bevorzugen\, da sich unsere Arbeit primär an di
 ese Zielgruppe richtet und die Sammlung von Artenkenntnis einen wichtigen 
 Teil unserer Ausbildung darstellt.\n\nZur besseren Planung bitten wir bis 
 12.8.2024 um Anmeldung per E-Mail an fachgruppegoek@outlook.de.\nNutzt dab
 ei den Betreff: Fledermausexkursion! und gebt euren Studiengang an! (GÖK/
 BUS oder extern (Mitarbeitende o. Teilnehmende anderer Studiengänge))\n\n
 Die Fachgruppe Geoökologie 🦇
ATTACH;FMTTYPE=image/jpeg:https://blogs.hrz.tu-freiberg.de/fachgruppe-geoo
 ekologie/wp-content/uploads/sites/41/2024/07/Fledermausexkursion_Poster.jp
 g
CATEGORIES:Exkursion
LOCATION:Platz der Einheit Freiberg\, Chemnitzer Straße\, Freiberg\, Deuts
 chland
X-APPLE-STRUCTURED-LOCATION;VALUE=URI;X-ADDRESS=Chemnitzer Straße\, Freibe
 rg\, Deutschland;X-APPLE-RADIUS=100;X-TITLE=Platz der Einheit Freiberg:geo
 :0,0
END:VEVENT
BEGIN:VTIMEZONE
TZID:Europe/Berlin
X-LIC-LOCATION:Europe/Berlin
BEGIN:DAYLIGHT
DTSTART:20240331T030000
TZOFFSETFROM:+0100
TZOFFSETTO:+0200
TZNAME:CEST
END:DAYLIGHT
END:VTIMEZONE
END:VCALENDAR