BEGIN:VCALENDAR
VERSION:2.0
PRODID:-//wp-events-plugin.com//7.2.3.1//EN
TZID:Europe/Berlin
X-WR-TIMEZONE:Europe/Berlin
BEGIN:VEVENT
UID:0-1013@blogs.hrz.tu-freiberg.de
DTSTART;TZID=Europe/Berlin:20260411T100000
DTEND;TZID=Europe/Berlin:20260411T150000
DTSTAMP:20260401T083912Z
URL:https://blogs.hrz.tu-freiberg.de/fachgruppe-geooekologie/events/freibe
 rger-fruehjahrsputz-2026-der-agenda-21-e-v-und-der-stadt-freiberg/
SUMMARY:Freiberger Frühjahrsputz 2026 der Agenda 21 e.V.\, der AG Umwelt u
 nd der Stadt Freiberg
DESCRIPTION:Alljährlicher Freiberger Frühjahrsputz (Müllsammeln) der Age
 nda 21 e.V.\, der AG Umwelt und der Stadt Freiberg. Der Treffpunkt der AG 
 Umwelt ist am Altglascontainer/Wendehammer am oberen Ende des Forstwegs Ri
 chtung Waldbad: https://www.openstreetmap.org/search?lat=50.902311&amp\;lo
 n=13.325834&amp\;zoom=19#map=19/50.902311/13.325834\n\nHandschuhe und Mül
 lsäcke werden gestellt.
CATEGORIES:AG Umwelt
END:VEVENT
BEGIN:VTIMEZONE
TZID:Europe/Berlin
X-LIC-LOCATION:Europe/Berlin
BEGIN:DAYLIGHT
DTSTART:20260329T030000
TZOFFSETFROM:+0100
TZOFFSETTO:+0200
TZNAME:CEST
END:DAYLIGHT
END:VTIMEZONE
END:VCALENDAR