BEGIN:VCALENDAR
VERSION:2.0
PRODID:-//wp-events-plugin.com//7.2.3.1//EN
TZID:Europe/Berlin
X-WR-TIMEZONE:Europe/Berlin
BEGIN:VEVENT
UID:0-1139@blogs.hrz.tu-freiberg.de
DTSTART;TZID=Europe/Berlin:20260426T130000
DTEND;TZID=Europe/Berlin:20260426T160000
DTSTAMP:20260420T061612Z
URL:https://blogs.hrz.tu-freiberg.de/fachgruppe-geooekologie/events/fruehl
 ingsspaziergaenge-in-sachsen/
SUMMARY:Frühlingsspaziergänge in Sachsen
DESCRIPTION:\n\nBeschreibung:\nDie Kurzbeschreibung finden Sie unter www.sa
 chsenfuehrungen.de\n\n\n\n\n\nUhrzeit:\n13:00 - 16:00 Uhr\n\n\n\nRegion:\n
 M - Mittleres Erzgebirge\n\n\n\n\n\nStreckenlänge:\n6 km\n\n\n\n\n\nTreff
 punkt:\nForststraße 100\n09131 Chemnitz\nauf Karte anzeigen\n\n\n\nAnmeld
 ung erforderlich:\nsachsenfuehrungen@t-online.de\n\n\n\n\n\nTreffpunktbesc
 hreibung:\nParkplatz vor der »Zeisigwaldschänke«\n\n\n\n\n\nVeranstalte
 r:\n\n\n\n\n\nIG Sachsenführungen Chemnitz\n\n\n
CATEGORIES:Exkursion
END:VEVENT
BEGIN:VTIMEZONE
TZID:Europe/Berlin
X-LIC-LOCATION:Europe/Berlin
BEGIN:DAYLIGHT
DTSTART:20260329T030000
TZOFFSETFROM:+0100
TZOFFSETTO:+0200
TZNAME:CEST
END:DAYLIGHT
END:VTIMEZONE
END:VCALENDAR