BEGIN:VCALENDAR
VERSION:2.0
PRODID:-//wp-events-plugin.com//7.2.3.1//EN
TZID:Europe/Berlin
X-WR-TIMEZONE:Europe/Berlin
BEGIN:VEVENT
UID:0-532@blogs.hrz.tu-freiberg.de
DTSTART;TZID=Europe/Berlin:20250506T100000
DTEND;TZID=Europe/Berlin:20250507T160000
DTSTAMP:20250111T160827Z
URL:https://blogs.hrz.tu-freiberg.de/fachgruppe-geooekologie/events/fsr-wa
 hlen-2025/
SUMMARY:FSR-Wahlen 2025
DESCRIPTION:Am 06.05.2025 zwischen 10:00 Uhr und 18:00 Uhr sowie am 07.05.2
 025 zwischen 10:00 Uhr und 16:00 Uhr seid ihr aufgerufen\, eure Stimme bei
  der Fachschaftsratswahl abzugeben!\n\nAlle Infos findet ihr auf https://w
 ww.stura.tu-freiberg.de/dokumente/wahl-formulare/\n\nWahlvorschläge müss
 en bis zum 16.04.2025 14:00 Uhr beim Wahlleiter eingegangen sein. Eine Ein
 reichung ist über das Büro des Studentenrates möglich.
CATEGORIES:Universitäre Veranstaltung
LOCATION:EAC\, ErdAlchimistenClubs (EAC)\, Neue Mensa\, Agricolastraße 10a
 \, Freiberg\, Deutschland
X-APPLE-STRUCTURED-LOCATION;VALUE=URI;X-ADDRESS=ErdAlchimistenClubs (EAC)\,
  Neue Mensa\, Agricolastraße 10a\, Freiberg\, Deutschland;X-APPLE-RADIUS=
 100;X-TITLE=EAC:geo:0,0
END:VEVENT
BEGIN:VTIMEZONE
TZID:Europe/Berlin
X-LIC-LOCATION:Europe/Berlin
BEGIN:DAYLIGHT
DTSTART:20250330T030000
TZOFFSETFROM:+0100
TZOFFSETTO:+0200
TZNAME:CEST
END:DAYLIGHT
END:VTIMEZONE
END:VCALENDAR